BEGIN:VCALENDAR
X-LOTUS-CHARSET:UTF-8
VERSION:2.0
PRODID:-//unihamburg/mundry
METHOD:PUBLISH
BEGIN:VTIMEZONE
TZID:Europe/Berlin
X-LIC-LOCATION:Europe/Berlin
BEGIN:DAYLIGHT
TZOFFSETFROM:+0100
TZOFFSETTO:+0200
TZNAME:CEST
DTSTART:19700329T020000
RRULE:FREQ=YEARLY;INTERVAL=1;BYDAY=-1SU;BYMONTH=3
END:DAYLIGHT
BEGIN:STANDARD
TZOFFSETFROM:+0200
TZOFFSETTO:+0100
TZNAME:CET
DTSTART:19701025T030000
RRULE:FREQ=YEARLY;INTERVAL=1;BYDAY=-1SU;BYMONTH=10
END:STANDARD
END:VTIMEZONE
BEGIN:VEVENT
UID:129787
CLASS:PUBLIC
SUMMARY:Zeitlos ungerecht! Warum wir neue Zeitkonzepte brauchen für unsere Arbeit und unser Leben!
DTSTART;TZID=Europe/Berlin:20260318T160000DTSTAMP:20260420T1405Z
DESCRIPTION:Im Rahmen des Internationalen Frauentags laden Pro Exzellenzia lead, der Gleichstellungs- und Diversitybereich der MIN-Fakultät und die Stabsstelle Chancengerechtigkeit der Universität Hamburg zum Vortrag von Teresa Bücker am 18. März 2026 von 16-18 Uhr ein: "Zeitlos ungerecht! Warum wir neue Zeitkonzepte brauchen für unsere Arbeit und unser Leben!". \nFür Frauen ist der Kampf um freie und selbstbestimmte Zeit die drängendste politische Machtfrage: Denn ohne die Neuverteilung und die Aufwertung von Care-Arbeit wird die Gleichberechtigung der Geschlechter nicht gelingen. Forschungsergebnisse unterschiedlicher Disziplinen legen zudem nahe, dass Zeitarmut ebenso stark wie materielle Armut auf das menschliche Wohlergehen wirkt. Von Seiten der Politik und Industrie wird derzeit jedoch vor allem gefordert, wir müssten noch mehr und noch länger arbeiten.\nMehr Arbeit ist der falsche Ansatz. Die bisherigen Ideen für die Vereinbarkeit von Beruf und Familie tragen zu wenig dazu bei, den Gender-Pay-Gap zu schließen, Gleichstellung im Job zu erreichen und den Fachkräftemangel abzufedern. Zudem fehlt vielen Menschen Zeit für Demokratie. Doch es gibt Ideen, die uns dem Ziel näherbringen, eine moderne, gerechte und engagierte Gesellschaft zu sein. Wir brauchen eine mutige Zeitpolitik!\n»Alle_Zeit« hat den NDR Sachbuchpreis 2023 gewonnen und war außerdem für den Deutschen Sachbuchpreis 2023 nominiert.\nDie Veranstaltung ist kostenlos und für alle Interessierten offen. Eine Anmeldung ist unbedingt erforderlich.\nDer SPACE von nextMedia.Hamburg und der Hamburg Kreativ Gesellschaft wird kostenfrei zur Verfügung gestellt.\n
LOCATION:Space, Am Sandtorkai 27, 20457 Hamburg, 
END:VEVENT
END:VCALENDAR
